BEGIN:VCALENDAR
VERSION:2.0
PRODID:-//Saint Aloysius Parish: Welcome! - New Canaan - ECPv6.13.2.1//NONSGML v1.0//EN
CALSCALE:GREGORIAN
METHOD:PUBLISH
X-WR-CALNAME:Saint Aloysius Parish: Welcome! - New Canaan
X-ORIGINAL-URL:https://starcc.com
X-WR-CALDESC:Events for Saint Aloysius Parish: Welcome! - New Canaan
REFRESH-INTERVAL;VALUE=DURATION:PT1H
X-Robots-Tag:noindex
X-PUBLISHED-TTL:PT1H
BEGIN:VTIMEZONE
TZID:America/New_York
BEGIN:DAYLIGHT
TZOFFSETFROM:-0500
TZOFFSETTO:-0400
TZNAME:EDT
DTSTART:20240310T070000
END:DAYLIGHT
BEGIN:STANDARD
TZOFFSETFROM:-0400
TZOFFSETTO:-0500
TZNAME:EST
DTSTART:20241103T060000
END:STANDARD
END:VTIMEZONE
BEGIN:VEVENT
DTSTART;TZID=America/New_York:20240506T190000
DTEND;TZID=America/New_York:20240506T200000
DTSTAMP:20260422T105310
CREATED:20240503T171314Z
LAST-MODIFIED:20240503T171314Z
UID:10000357-1715022000-1715025600@starcc.com
SUMMARY:Young Adult Bible Study
DESCRIPTION:Led by Aurelie
URL:https://starcc.com/event/young-adult-bible-study-15/
LOCATION:40 Maple Street\, 40 Maple Street\, New Canaan\, United States
ATTACH;FMTTYPE=image/png:https://starcc.com/wp-content/uploads/2024/05/YA-May-2024.png
ORGANIZER;CN="Katie Cunningham":MAILTO:kccunningham16@gmail.com
END:VEVENT
END:VCALENDAR