BEGIN:VCALENDAR
VERSION:2.0
PRODID:-//Saint Aloysius Parish: Welcome! - New Canaan - ECPv6.13.2.1//NONSGML v1.0//EN
CALSCALE:GREGORIAN
METHOD:PUBLISH
X-ORIGINAL-URL:https://starcc.com
X-WR-CALDESC:Events for Saint Aloysius Parish: Welcome! - New Canaan
REFRESH-INTERVAL;VALUE=DURATION:PT1H
X-Robots-Tag:noindex
X-PUBLISHED-TTL:PT1H
BEGIN:VTIMEZONE
TZID:America/New_York
BEGIN:DAYLIGHT
TZOFFSETFROM:-0500
TZOFFSETTO:-0400
TZNAME:EDT
DTSTART:20240310T070000
END:DAYLIGHT
BEGIN:STANDARD
TZOFFSETFROM:-0400
TZOFFSETTO:-0500
TZNAME:EST
DTSTART:20241103T060000
END:STANDARD
END:VTIMEZONE
BEGIN:VEVENT
DTSTART;VALUE=DATE:20240705
DTEND;VALUE=DATE:20240706
DTSTAMP:20260420T042115
CREATED:20240614T175812Z
LAST-MODIFIED:20240614T175812Z
UID:10000461-1720137600-1720223999@starcc.com
SUMMARY:Religious Education Registration for Grades Pre-K (age 4) to Grade 8 - Closes in 1 Week
DESCRIPTION:2024/25 School-Year will open on Monday\, June 17th \nReligious Education registration for the 2024/25 school-year will open Monday\, June 17th and will close at midnight July 12th. \nRegistration will be open for 4 weeks. \nIf you have any questions\, please contact Danielle Sibilia at directorreligioused@starcc.com.
URL:https://starcc.com/event/religious-education-registration-for-grades-pre-k-age-4-to-grade-8-closes-in-1-week/
LOCATION:CT
ATTACH;FMTTYPE=image/png:https://starcc.com/wp-content/uploads/2023/09/RE-Logo-sm2.png
ORGANIZER;CN="Danielle Sibilia":MAILTO:DirectorReligiousEd@starcc.com
END:VEVENT
END:VCALENDAR