BEGIN:VCALENDAR
VERSION:2.0
PRODID:-//Saint Aloysius Parish: Welcome! - New Canaan - ECPv6.13.2.1//NONSGML v1.0//EN
CALSCALE:GREGORIAN
METHOD:PUBLISH
X-WR-CALNAME:Saint Aloysius Parish: Welcome! - New Canaan
X-ORIGINAL-URL:https://starcc.com
X-WR-CALDESC:Events for Saint Aloysius Parish: Welcome! - New Canaan
REFRESH-INTERVAL;VALUE=DURATION:PT1H
X-Robots-Tag:noindex
X-PUBLISHED-TTL:PT1H
BEGIN:VTIMEZONE
TZID:America/New_York
BEGIN:DAYLIGHT
TZOFFSETFROM:-0500
TZOFFSETTO:-0400
TZNAME:EDT
DTSTART:20260308T070000
END:DAYLIGHT
BEGIN:STANDARD
TZOFFSETFROM:-0400
TZOFFSETTO:-0500
TZNAME:EST
DTSTART:20261101T060000
END:STANDARD
END:VTIMEZONE
BEGIN:VEVENT
DTSTART;VALUE=DATE:20260418
DTEND;VALUE=DATE:20260420
DTSTAMP:20260420T081953
CREATED:20260417T144955Z
LAST-MODIFIED:20260417T144955Z
UID:10001538-1776470400-1776643199@starcc.com
SUMMARY:Blood Pressure Screenings After all Masses
DESCRIPTION:
URL:https://starcc.com/event/blood-pressure-screenings-after-all-masses/
LOCATION:St Aloysius – Church\, New Canaan\, CT\, United States
ATTACH;FMTTYPE=image/png:https://starcc.com/wp-content/uploads/2025/09/Blood-Pressure-Screenings.png
ORGANIZER;CN="Kim McNamara":MAILTO:kmcnamara3@me.com
END:VEVENT
BEGIN:VEVENT
DTSTART;TZID=America/New_York:20260418T073000
DTEND;TZID=America/New_York:20260418T213000
DTSTAMP:20260420T081953
CREATED:20250829T141045Z
LAST-MODIFIED:20260119T211621Z
UID:10001068-1776497400-1776547800@starcc.com
SUMMARY:Men's Bible Study & Fellowship
DESCRIPTION:Attention all Men of the Parish\nSaturday Morning Men’s Bible Study and Fellowship \nAll Men are welcome\, whether you have a degree in Scripture\nor you’ve never opened the Bible outside of Mass. \n7:30 a.m. – Doors open for light breakfast and fellowship.\n8:30 – 10:0 a.m.- Scripture study \nMaple Street Dining Room of the Parish Center\nPlease enter through the kitchen door off Maple Street.\nFor more information contact Bob Mantilia at\n203-414-1500 or Robert.R.Mantilia@gmail.com
URL:https://starcc.com/event/mens-bible-study-fellowship-4-2/2026-04-18/
LOCATION:40 Maple Street\, 40 Maple Street\, New Canaan\, United States
CATEGORIES:Men's Bible Study & Fellowship
ATTACH;FMTTYPE=image/png:https://starcc.com/wp-content/uploads/2025/07/Mens-Bible-Study-and-Fellowship.png
ORGANIZER;CN="Bob Mantilia":MAILTO:robert.r.mantilia@gmail.com
END:VEVENT
BEGIN:VEVENT
DTSTART;TZID=America/New_York:20260418T083000
DTEND;TZID=America/New_York:20260418T093000
DTSTAMP:20260420T081953
CREATED:20260209T164454Z
LAST-MODIFIED:20260209T164620Z
UID:10001352-1776501000-1776504600@starcc.com
SUMMARY:St. A’s Healing Rosary Prayer Group
DESCRIPTION:Are you or a loved one in need of healing (mind\, body and/or spirit?) \nAll are welcome to join St. A’s Healing Rosary Prayer Group on Saturday mornings at 8:30 in the church. \nQuestions? Please email Anne Cross: OurHealingRosary@gmail.com
URL:https://starcc.com/event/st-as-healing-rosary-prayer-group-3/2026-04-18/
LOCATION:St Aloysius – Church\, New Canaan\, CT\, United States
CATEGORIES:Healing Rosary Group
ATTACH;FMTTYPE=image/png:https://starcc.com/wp-content/uploads/2026/02/Healing-Rosary.png
ORGANIZER;CN="Anne Cross":MAILTO:OurHealingRosary@gmail.com
END:VEVENT
BEGIN:VEVENT
DTSTART;TZID=America/New_York:20260418T160000
DTEND;TZID=America/New_York:20260418T164500
DTSTAMP:20260420T081953
CREATED:20260224T181847Z
LAST-MODIFIED:20260224T181847Z
UID:10001394-1776528000-1776530700@starcc.com
SUMMARY:Confession
DESCRIPTION:Saturdays 4:00 – 4:45 PM
URL:https://starcc.com/event/confession/2026-04-18/
LOCATION:St Aloysius – Chapel\, New Canaan\, CT\, United States
CATEGORIES:Church Event
ATTACH;FMTTYPE=image/jpeg:https://starcc.com/wp-content/uploads/2026/02/confession-scaled.jpeg
END:VEVENT
BEGIN:VEVENT
DTSTART;TZID=America/New_York:20260418T183000
DTEND;TZID=America/New_York:20260418T193000
DTSTAMP:20260420T081953
CREATED:20260406T151903Z
LAST-MODIFIED:20260406T152141Z
UID:10001532-1776537000-1776540600@starcc.com
SUMMARY:Misa en Español Sábado 18 de Abril a las 6:30 p.m.
DESCRIPTION:Para más información póngase en contacto con el Padre Flavian – frflavian@starcc.com
URL:https://starcc.com/event/misa-en-espanol-sabado-18-de-abril-a-las-630-p-m/
LOCATION:St Aloysius – Church\, New Canaan\, CT\, United States
ATTACH;FMTTYPE=image/png:https://starcc.com/wp-content/uploads/2026/04/Spanish-Mass-4-18-2026.png
ORGANIZER;CN="Fr Flavian":MAILTO:frflavian@starcc.com
END:VEVENT
END:VCALENDAR