BEGIN:VCALENDAR
VERSION:2.0
PRODID:-//Saint Aloysius Parish: Welcome! - New Canaan - ECPv6.13.2.1//NONSGML v1.0//EN
CALSCALE:GREGORIAN
METHOD:PUBLISH
X-ORIGINAL-URL:https://starcc.com
X-WR-CALDESC:Events for Saint Aloysius Parish: Welcome! - New Canaan
REFRESH-INTERVAL;VALUE=DURATION:PT1H
X-Robots-Tag:noindex
X-PUBLISHED-TTL:PT1H
BEGIN:VTIMEZONE
TZID:America/New_York
BEGIN:DAYLIGHT
TZOFFSETFROM:-0500
TZOFFSETTO:-0400
TZNAME:EDT
DTSTART:20260308T070000
END:DAYLIGHT
BEGIN:STANDARD
TZOFFSETFROM:-0400
TZOFFSETTO:-0500
TZNAME:EST
DTSTART:20261101T060000
END:STANDARD
END:VTIMEZONE
BEGIN:VEVENT
DTSTART;VALUE=DATE:20260328
DTEND;VALUE=DATE:20260406
DTSTAMP:20260423T095308
CREATED:20260225T170825Z
LAST-MODIFIED:20260225T170825Z
UID:10001522-1774656000-1775433599@starcc.com
SUMMARY:Holy Week Schedule
DESCRIPTION:Palm Sunday of the Lord’s Passion\nSaturday\, March 28 – Mass at 5:00 p.m.\nSunday\, March 29 – Masses 7:00\, 8:30\, 10:00\, 11:30 a.m.\, 5:00 p.m. \nMonday\, March 30 – Wednesday\, April 1:\n7:00 a.m. Mass & 5:30 p.m. Mass \nMonday March 30 – 3:00 p.m. to 9:00 p.m. Confessions (Chapel) \nWednesday April 1 –  7:00 p.m. Tenebrae Service \nHoly Thursday April 2:\n 7:00 a.m. Morning Prayer in the Church\n7:00 p.m. Mass of the Lord’s Supper\n8:30 p.m. – 11:00 p.m. Adoration of the Blessed Sacrament at the Altar of Repose (Chapel) \nGood Friday April 3:\n 7:00 a.m. Morning Prayer in the Church\n11:00 a.m. – 12:00 Noon Confessions in the Chapel\n12:00 Noon Stations of the Cross\n3:00 p.m. Celebration of the Lord’s Passion\n7:00 p.m. Stations of the Cross\nThe church will remain open for silent prayer until 9:00 PM  \nHoly Saturday April 4:\n 7:00 a.m. Morning Prayer in the Church\n12:00 Noon Blessing of Easter Food in the Church\n3:00 p.m. – 5:00 p.m. Confessions in the Chapel\n8:00 p.m. The Vigil of Easter\nBlessing of the New Fire\nLighting of the Paschal Candle\nBlessing of Water\nSacraments of Initiation for New Catholics \nEaster Sunday of the Resurrection of the Lord\n April 5 – Masses at 7:00\, 8:30\, 10:00\, 11:30 a.m. and 1:00 p.m.\nPlease note: No 5:00 p.m. Mass on Easter Sunday
URL:https://starcc.com/event/holy-week-schedule/
LOCATION:St Aloysius – Chapel\, New Canaan\, CT\, United States
CATEGORIES:Church Event
ATTACH;FMTTYPE=image/jpeg:https://starcc.com/wp-content/uploads/2025/03/AdobeStock_717762479.jpeg
END:VEVENT
BEGIN:VEVENT
DTSTART;VALUE=DATE:20260405
DTEND;VALUE=DATE:20260406
DTSTAMP:20260423T095308
CREATED:20260224T233010Z
LAST-MODIFIED:20260224T233010Z
UID:10001496-1775347200-1775433599@starcc.com
SUMMARY:Sunday Masses
DESCRIPTION:SUNDAY MASSES \nSunday: 7:00\, 8:30\, 10:00\, 11:30 AM and 5:00 PM
URL:https://starcc.com/event/sunday-masses/2026-04-05/
LOCATION:St Aloysius – Church\, New Canaan\, CT\, United States
CATEGORIES:Church Event
ATTACH;FMTTYPE=image/jpeg:https://starcc.com/wp-content/uploads/2024/09/IMG_9787-scaled.jpg
END:VEVENT
BEGIN:VEVENT
DTSTART;TZID=America/New_York:20260411T160000
DTEND;TZID=America/New_York:20260411T164500
DTSTAMP:20260423T095308
CREATED:20260224T181847Z
LAST-MODIFIED:20260224T181847Z
UID:10001393-1775923200-1775925900@starcc.com
SUMMARY:Confession
DESCRIPTION:Saturdays 4:00 – 4:45 PM
URL:https://starcc.com/event/confession/2026-04-11/
LOCATION:St Aloysius – Chapel\, New Canaan\, CT\, United States
CATEGORIES:Church Event
ATTACH;FMTTYPE=image/jpeg:https://starcc.com/wp-content/uploads/2026/02/confession-scaled.jpeg
END:VEVENT
BEGIN:VEVENT
DTSTART;TZID=America/New_York:20260418T160000
DTEND;TZID=America/New_York:20260418T164500
DTSTAMP:20260423T095308
CREATED:20260224T181847Z
LAST-MODIFIED:20260224T181847Z
UID:10001394-1776528000-1776530700@starcc.com
SUMMARY:Confession
DESCRIPTION:Saturdays 4:00 – 4:45 PM
URL:https://starcc.com/event/confession/2026-04-18/
LOCATION:St Aloysius – Chapel\, New Canaan\, CT\, United States
CATEGORIES:Church Event
ATTACH;FMTTYPE=image/jpeg:https://starcc.com/wp-content/uploads/2026/02/confession-scaled.jpeg
END:VEVENT
BEGIN:VEVENT
DTSTART;TZID=America/New_York:20260425T160000
DTEND;TZID=America/New_York:20260425T164500
DTSTAMP:20260423T095308
CREATED:20260224T181847Z
LAST-MODIFIED:20260224T181847Z
UID:10001395-1777132800-1777135500@starcc.com
SUMMARY:Confession
DESCRIPTION:Saturdays 4:00 – 4:45 PM
URL:https://starcc.com/event/confession/2026-04-25/
LOCATION:St Aloysius – Chapel\, New Canaan\, CT\, United States
CATEGORIES:Church Event
ATTACH;FMTTYPE=image/jpeg:https://starcc.com/wp-content/uploads/2026/02/confession-scaled.jpeg
END:VEVENT
BEGIN:VEVENT
DTSTART;TZID=America/New_York:20260502T160000
DTEND;TZID=America/New_York:20260502T164500
DTSTAMP:20260423T095308
CREATED:20260224T181847Z
LAST-MODIFIED:20260224T181847Z
UID:10001396-1777737600-1777740300@starcc.com
SUMMARY:Confession
DESCRIPTION:Saturdays 4:00 – 4:45 PM
URL:https://starcc.com/event/confession/2026-05-02/
LOCATION:St Aloysius – Chapel\, New Canaan\, CT\, United States
CATEGORIES:Church Event
ATTACH;FMTTYPE=image/jpeg:https://starcc.com/wp-content/uploads/2026/02/confession-scaled.jpeg
END:VEVENT
BEGIN:VEVENT
DTSTART;TZID=America/New_York:20260503T170000
DTEND;TZID=America/New_York:20260503T190000
DTSTAMP:20260423T095308
CREATED:20260413T133153Z
LAST-MODIFIED:20260413T133153Z
UID:10001533-1777827600-1777834800@starcc.com
SUMMARY:Veneration of a Relic of Saint Carlo Acutis
DESCRIPTION:St. Aloysius Parish invites you to venerate a relic of Saint Carlo Acutis\, a modern witness to the power of the Eucharist and holiness in everyday life. \nJoin us in prayer as we honor this young disciple of Christ and deepen our devotion to Christ. \nSunday\, May 3 5:00 pm Mass – Veneration to follow \nMonday\, May 4 – Veneration Times: 12:00 pm – 2:00 pm & 5:30 – 7:00 pm \nAll are welcome to experience this sacred moment of prayer and devotion.
URL:https://starcc.com/event/veneration-of-a-relic-of-saint-carlo-acutis/2026-05-03/
LOCATION:St Aloysius – Church\, New Canaan\, CT\, United States
CATEGORIES:Church Event
ATTACH;FMTTYPE=image/png:https://starcc.com/wp-content/uploads/2026/04/Relic-St-Carlos-Acutis.png
ORGANIZER;CN="John Palma":MAILTO:jpalma@starcc.com
END:VEVENT
BEGIN:VEVENT
DTSTART;TZID=America/New_York:20260504T120000
DTEND;TZID=America/New_York:20260504T140000
DTSTAMP:20260423T095308
CREATED:20260413T133153Z
LAST-MODIFIED:20260413T133153Z
UID:10001534-1777896000-1777903200@starcc.com
SUMMARY:Veneration of a Relic of Saint Carlo Acutis
DESCRIPTION:St. Aloysius Parish invites you to venerate a relic of Saint Carlo Acutis\, a modern witness to the power of the Eucharist and holiness in everyday life. \nJoin us in prayer as we honor this young disciple of Christ and deepen our devotion to Christ. \nSunday\, May 3 5:00 pm Mass – Veneration to follow \nMonday\, May 4 – Veneration Times: 12:00 pm – 2:00 pm & 5:30 – 7:00 pm \nAll are welcome to experience this sacred moment of prayer and devotion.
URL:https://starcc.com/event/veneration-of-a-relic-of-saint-carlo-acutis/2026-05-04/1/
LOCATION:St Aloysius – Church\, New Canaan\, CT\, United States
CATEGORIES:Church Event
ATTACH;FMTTYPE=image/png:https://starcc.com/wp-content/uploads/2026/04/Relic-St-Carlos-Acutis.png
ORGANIZER;CN="John Palma":MAILTO:jpalma@starcc.com
END:VEVENT
BEGIN:VEVENT
DTSTART;TZID=America/New_York:20260504T173000
DTEND;TZID=America/New_York:20260504T190000
DTSTAMP:20260423T095308
CREATED:20260413T133153Z
LAST-MODIFIED:20260413T133153Z
UID:10001535-1777915800-1777921200@starcc.com
SUMMARY:Veneration of a Relic of Saint Carlo Acutis
DESCRIPTION:St. Aloysius Parish invites you to venerate a relic of Saint Carlo Acutis\, a modern witness to the power of the Eucharist and holiness in everyday life. \nJoin us in prayer as we honor this young disciple of Christ and deepen our devotion to Christ. \nSunday\, May 3 5:00 pm Mass – Veneration to follow \nMonday\, May 4 – Veneration Times: 12:00 pm – 2:00 pm & 5:30 – 7:00 pm \nAll are welcome to experience this sacred moment of prayer and devotion.
URL:https://starcc.com/event/veneration-of-a-relic-of-saint-carlo-acutis/2026-05-04/2/
LOCATION:St Aloysius – Church\, New Canaan\, CT\, United States
CATEGORIES:Church Event
ATTACH;FMTTYPE=image/png:https://starcc.com/wp-content/uploads/2026/04/Relic-St-Carlos-Acutis.png
ORGANIZER;CN="John Palma":MAILTO:jpalma@starcc.com
END:VEVENT
BEGIN:VEVENT
DTSTART;TZID=America/New_York:20260509T160000
DTEND;TZID=America/New_York:20260509T164500
DTSTAMP:20260423T095308
CREATED:20260224T181847Z
LAST-MODIFIED:20260224T181847Z
UID:10001397-1778342400-1778345100@starcc.com
SUMMARY:Confession
DESCRIPTION:Saturdays 4:00 – 4:45 PM
URL:https://starcc.com/event/confession/2026-05-09/
LOCATION:St Aloysius – Chapel\, New Canaan\, CT\, United States
CATEGORIES:Church Event
ATTACH;FMTTYPE=image/jpeg:https://starcc.com/wp-content/uploads/2026/02/confession-scaled.jpeg
END:VEVENT
BEGIN:VEVENT
DTSTART;TZID=America/New_York:20260516T160000
DTEND;TZID=America/New_York:20260516T164500
DTSTAMP:20260423T095308
CREATED:20260224T181847Z
LAST-MODIFIED:20260224T181847Z
UID:10001398-1778947200-1778949900@starcc.com
SUMMARY:Confession
DESCRIPTION:Saturdays 4:00 – 4:45 PM
URL:https://starcc.com/event/confession/2026-05-16/
LOCATION:St Aloysius – Chapel\, New Canaan\, CT\, United States
CATEGORIES:Church Event
ATTACH;FMTTYPE=image/jpeg:https://starcc.com/wp-content/uploads/2026/02/confession-scaled.jpeg
END:VEVENT
BEGIN:VEVENT
DTSTART;TZID=America/New_York:20260523T160000
DTEND;TZID=America/New_York:20260523T164500
DTSTAMP:20260423T095308
CREATED:20260224T181847Z
LAST-MODIFIED:20260224T181847Z
UID:10001399-1779552000-1779554700@starcc.com
SUMMARY:Confession
DESCRIPTION:Saturdays 4:00 – 4:45 PM
URL:https://starcc.com/event/confession/2026-05-23/
LOCATION:St Aloysius – Chapel\, New Canaan\, CT\, United States
CATEGORIES:Church Event
ATTACH;FMTTYPE=image/jpeg:https://starcc.com/wp-content/uploads/2026/02/confession-scaled.jpeg
END:VEVENT
BEGIN:VEVENT
DTSTART;TZID=America/New_York:20260530T160000
DTEND;TZID=America/New_York:20260530T164500
DTSTAMP:20260423T095308
CREATED:20260224T181847Z
LAST-MODIFIED:20260224T181847Z
UID:10001400-1780156800-1780159500@starcc.com
SUMMARY:Confession
DESCRIPTION:Saturdays 4:00 – 4:45 PM
URL:https://starcc.com/event/confession/2026-05-30/
LOCATION:St Aloysius – Chapel\, New Canaan\, CT\, United States
CATEGORIES:Church Event
ATTACH;FMTTYPE=image/jpeg:https://starcc.com/wp-content/uploads/2026/02/confession-scaled.jpeg
END:VEVENT
BEGIN:VEVENT
DTSTART;TZID=America/New_York:20260606T160000
DTEND;TZID=America/New_York:20260606T164500
DTSTAMP:20260423T095308
CREATED:20260224T181847Z
LAST-MODIFIED:20260224T181847Z
UID:10001401-1780761600-1780764300@starcc.com
SUMMARY:Confession
DESCRIPTION:Saturdays 4:00 – 4:45 PM
URL:https://starcc.com/event/confession/2026-06-06/
LOCATION:St Aloysius – Chapel\, New Canaan\, CT\, United States
CATEGORIES:Church Event
ATTACH;FMTTYPE=image/jpeg:https://starcc.com/wp-content/uploads/2026/02/confession-scaled.jpeg
END:VEVENT
BEGIN:VEVENT
DTSTART;TZID=America/New_York:20260613T160000
DTEND;TZID=America/New_York:20260613T164500
DTSTAMP:20260423T095308
CREATED:20260224T181847Z
LAST-MODIFIED:20260224T181847Z
UID:10001402-1781366400-1781369100@starcc.com
SUMMARY:Confession
DESCRIPTION:Saturdays 4:00 – 4:45 PM
URL:https://starcc.com/event/confession/2026-06-13/
LOCATION:St Aloysius – Chapel\, New Canaan\, CT\, United States
CATEGORIES:Church Event
ATTACH;FMTTYPE=image/jpeg:https://starcc.com/wp-content/uploads/2026/02/confession-scaled.jpeg
END:VEVENT
BEGIN:VEVENT
DTSTART;TZID=America/New_York:20260620T160000
DTEND;TZID=America/New_York:20260620T164500
DTSTAMP:20260423T095308
CREATED:20260224T181847Z
LAST-MODIFIED:20260224T181847Z
UID:10001403-1781971200-1781973900@starcc.com
SUMMARY:Confession
DESCRIPTION:Saturdays 4:00 – 4:45 PM
URL:https://starcc.com/event/confession/2026-06-20/
LOCATION:St Aloysius – Chapel\, New Canaan\, CT\, United States
CATEGORIES:Church Event
ATTACH;FMTTYPE=image/jpeg:https://starcc.com/wp-content/uploads/2026/02/confession-scaled.jpeg
END:VEVENT
BEGIN:VEVENT
DTSTART;TZID=America/New_York:20260627T160000
DTEND;TZID=America/New_York:20260627T164500
DTSTAMP:20260423T095308
CREATED:20260224T181847Z
LAST-MODIFIED:20260224T181847Z
UID:10001404-1782576000-1782578700@starcc.com
SUMMARY:Confession
DESCRIPTION:Saturdays 4:00 – 4:45 PM
URL:https://starcc.com/event/confession/2026-06-27/
LOCATION:St Aloysius – Chapel\, New Canaan\, CT\, United States
CATEGORIES:Church Event
ATTACH;FMTTYPE=image/jpeg:https://starcc.com/wp-content/uploads/2026/02/confession-scaled.jpeg
END:VEVENT
BEGIN:VEVENT
DTSTART;TZID=America/New_York:20260704T160000
DTEND;TZID=America/New_York:20260704T164500
DTSTAMP:20260423T095308
CREATED:20260224T181847Z
LAST-MODIFIED:20260224T181847Z
UID:10001405-1783180800-1783183500@starcc.com
SUMMARY:Confession
DESCRIPTION:Saturdays 4:00 – 4:45 PM
URL:https://starcc.com/event/confession/2026-07-04/
LOCATION:St Aloysius – Chapel\, New Canaan\, CT\, United States
CATEGORIES:Church Event
ATTACH;FMTTYPE=image/jpeg:https://starcc.com/wp-content/uploads/2026/02/confession-scaled.jpeg
END:VEVENT
BEGIN:VEVENT
DTSTART;TZID=America/New_York:20260711T160000
DTEND;TZID=America/New_York:20260711T164500
DTSTAMP:20260423T095308
CREATED:20260224T181847Z
LAST-MODIFIED:20260224T181847Z
UID:10001406-1783785600-1783788300@starcc.com
SUMMARY:Confession
DESCRIPTION:Saturdays 4:00 – 4:45 PM
URL:https://starcc.com/event/confession/2026-07-11/
LOCATION:St Aloysius – Chapel\, New Canaan\, CT\, United States
CATEGORIES:Church Event
ATTACH;FMTTYPE=image/jpeg:https://starcc.com/wp-content/uploads/2026/02/confession-scaled.jpeg
END:VEVENT
BEGIN:VEVENT
DTSTART;TZID=America/New_York:20260718T160000
DTEND;TZID=America/New_York:20260718T164500
DTSTAMP:20260423T095308
CREATED:20260224T181847Z
LAST-MODIFIED:20260224T181847Z
UID:10001407-1784390400-1784393100@starcc.com
SUMMARY:Confession
DESCRIPTION:Saturdays 4:00 – 4:45 PM
URL:https://starcc.com/event/confession/2026-07-18/
LOCATION:St Aloysius – Chapel\, New Canaan\, CT\, United States
CATEGORIES:Church Event
ATTACH;FMTTYPE=image/jpeg:https://starcc.com/wp-content/uploads/2026/02/confession-scaled.jpeg
END:VEVENT
BEGIN:VEVENT
DTSTART;TZID=America/New_York:20260725T160000
DTEND;TZID=America/New_York:20260725T164500
DTSTAMP:20260423T095308
CREATED:20260224T181847Z
LAST-MODIFIED:20260224T181847Z
UID:10001408-1784995200-1784997900@starcc.com
SUMMARY:Confession
DESCRIPTION:Saturdays 4:00 – 4:45 PM
URL:https://starcc.com/event/confession/2026-07-25/
LOCATION:St Aloysius – Chapel\, New Canaan\, CT\, United States
CATEGORIES:Church Event
ATTACH;FMTTYPE=image/jpeg:https://starcc.com/wp-content/uploads/2026/02/confession-scaled.jpeg
END:VEVENT
BEGIN:VEVENT
DTSTART;TZID=America/New_York:20260801T160000
DTEND;TZID=America/New_York:20260801T164500
DTSTAMP:20260423T095308
CREATED:20260224T181847Z
LAST-MODIFIED:20260224T181847Z
UID:10001409-1785600000-1785602700@starcc.com
SUMMARY:Confession
DESCRIPTION:Saturdays 4:00 – 4:45 PM
URL:https://starcc.com/event/confession/2026-08-01/
LOCATION:St Aloysius – Chapel\, New Canaan\, CT\, United States
CATEGORIES:Church Event
ATTACH;FMTTYPE=image/jpeg:https://starcc.com/wp-content/uploads/2026/02/confession-scaled.jpeg
END:VEVENT
BEGIN:VEVENT
DTSTART;TZID=America/New_York:20260808T160000
DTEND;TZID=America/New_York:20260808T164500
DTSTAMP:20260423T095308
CREATED:20260224T181847Z
LAST-MODIFIED:20260224T181847Z
UID:10001410-1786204800-1786207500@starcc.com
SUMMARY:Confession
DESCRIPTION:Saturdays 4:00 – 4:45 PM
URL:https://starcc.com/event/confession/2026-08-08/
LOCATION:St Aloysius – Chapel\, New Canaan\, CT\, United States
CATEGORIES:Church Event
ATTACH;FMTTYPE=image/jpeg:https://starcc.com/wp-content/uploads/2026/02/confession-scaled.jpeg
END:VEVENT
BEGIN:VEVENT
DTSTART;TZID=America/New_York:20260815T160000
DTEND;TZID=America/New_York:20260815T164500
DTSTAMP:20260423T095308
CREATED:20260224T181847Z
LAST-MODIFIED:20260224T181847Z
UID:10001411-1786809600-1786812300@starcc.com
SUMMARY:Confession
DESCRIPTION:Saturdays 4:00 – 4:45 PM
URL:https://starcc.com/event/confession/2026-08-15/
LOCATION:St Aloysius – Chapel\, New Canaan\, CT\, United States
CATEGORIES:Church Event
ATTACH;FMTTYPE=image/jpeg:https://starcc.com/wp-content/uploads/2026/02/confession-scaled.jpeg
END:VEVENT
BEGIN:VEVENT
DTSTART;TZID=America/New_York:20260822T160000
DTEND;TZID=America/New_York:20260822T164500
DTSTAMP:20260423T095308
CREATED:20260224T181847Z
LAST-MODIFIED:20260224T181847Z
UID:10001412-1787414400-1787417100@starcc.com
SUMMARY:Confession
DESCRIPTION:Saturdays 4:00 – 4:45 PM
URL:https://starcc.com/event/confession/2026-08-22/
LOCATION:St Aloysius – Chapel\, New Canaan\, CT\, United States
CATEGORIES:Church Event
ATTACH;FMTTYPE=image/jpeg:https://starcc.com/wp-content/uploads/2026/02/confession-scaled.jpeg
END:VEVENT
BEGIN:VEVENT
DTSTART;TZID=America/New_York:20260829T160000
DTEND;TZID=America/New_York:20260829T164500
DTSTAMP:20260423T095308
CREATED:20260224T181847Z
LAST-MODIFIED:20260224T181847Z
UID:10001413-1788019200-1788021900@starcc.com
SUMMARY:Confession
DESCRIPTION:Saturdays 4:00 – 4:45 PM
URL:https://starcc.com/event/confession/2026-08-29/
LOCATION:St Aloysius – Chapel\, New Canaan\, CT\, United States
CATEGORIES:Church Event
ATTACH;FMTTYPE=image/jpeg:https://starcc.com/wp-content/uploads/2026/02/confession-scaled.jpeg
END:VEVENT
BEGIN:VEVENT
DTSTART;TZID=America/New_York:20260905T160000
DTEND;TZID=America/New_York:20260905T164500
DTSTAMP:20260423T095308
CREATED:20260224T181847Z
LAST-MODIFIED:20260224T181847Z
UID:10001414-1788624000-1788626700@starcc.com
SUMMARY:Confession
DESCRIPTION:Saturdays 4:00 – 4:45 PM
URL:https://starcc.com/event/confession/2026-09-05/
LOCATION:St Aloysius – Chapel\, New Canaan\, CT\, United States
CATEGORIES:Church Event
ATTACH;FMTTYPE=image/jpeg:https://starcc.com/wp-content/uploads/2026/02/confession-scaled.jpeg
END:VEVENT
BEGIN:VEVENT
DTSTART;TZID=America/New_York:20260912T160000
DTEND;TZID=America/New_York:20260912T164500
DTSTAMP:20260423T095308
CREATED:20260224T181847Z
LAST-MODIFIED:20260224T181847Z
UID:10001415-1789228800-1789231500@starcc.com
SUMMARY:Confession
DESCRIPTION:Saturdays 4:00 – 4:45 PM
URL:https://starcc.com/event/confession/2026-09-12/
LOCATION:St Aloysius – Chapel\, New Canaan\, CT\, United States
CATEGORIES:Church Event
ATTACH;FMTTYPE=image/jpeg:https://starcc.com/wp-content/uploads/2026/02/confession-scaled.jpeg
END:VEVENT
BEGIN:VEVENT
DTSTART;TZID=America/New_York:20260919T160000
DTEND;TZID=America/New_York:20260919T164500
DTSTAMP:20260423T095308
CREATED:20260224T181847Z
LAST-MODIFIED:20260224T181847Z
UID:10001416-1789833600-1789836300@starcc.com
SUMMARY:Confession
DESCRIPTION:Saturdays 4:00 – 4:45 PM
URL:https://starcc.com/event/confession/2026-09-19/
LOCATION:St Aloysius – Chapel\, New Canaan\, CT\, United States
CATEGORIES:Church Event
ATTACH;FMTTYPE=image/jpeg:https://starcc.com/wp-content/uploads/2026/02/confession-scaled.jpeg
END:VEVENT
BEGIN:VEVENT
DTSTART;TZID=America/New_York:20260926T160000
DTEND;TZID=America/New_York:20260926T164500
DTSTAMP:20260423T095308
CREATED:20260224T181847Z
LAST-MODIFIED:20260224T181847Z
UID:10001417-1790438400-1790441100@starcc.com
SUMMARY:Confession
DESCRIPTION:Saturdays 4:00 – 4:45 PM
URL:https://starcc.com/event/confession/2026-09-26/
LOCATION:St Aloysius – Chapel\, New Canaan\, CT\, United States
CATEGORIES:Church Event
ATTACH;FMTTYPE=image/jpeg:https://starcc.com/wp-content/uploads/2026/02/confession-scaled.jpeg
END:VEVENT
END:VCALENDAR