BEGIN:VCALENDAR
VERSION:2.0
PRODID:-//Saint Aloysius Parish: Welcome! - New Canaan - ECPv6.13.2.1//NONSGML v1.0//EN
CALSCALE:GREGORIAN
METHOD:PUBLISH
X-ORIGINAL-URL:https://starcc.com
X-WR-CALDESC:Events for Saint Aloysius Parish: Welcome! - New Canaan
REFRESH-INTERVAL;VALUE=DURATION:PT1H
X-Robots-Tag:noindex
X-PUBLISHED-TTL:PT1H
BEGIN:VTIMEZONE
TZID:America/New_York
BEGIN:DAYLIGHT
TZOFFSETFROM:-0500
TZOFFSETTO:-0400
TZNAME:EDT
DTSTART:20260308T070000
END:DAYLIGHT
BEGIN:STANDARD
TZOFFSETFROM:-0400
TZOFFSETTO:-0500
TZNAME:EST
DTSTART:20261101T060000
END:STANDARD
END:VTIMEZONE
BEGIN:VEVENT
DTSTART;TZID=America/New_York:20260425T083000
DTEND;TZID=America/New_York:20260425T093000
DTSTAMP:20260425T202112
CREATED:20260209T164454Z
LAST-MODIFIED:20260209T164620Z
UID:10001354-1777105800-1777109400@starcc.com
SUMMARY:St. A’s Healing Rosary Prayer Group
DESCRIPTION:Are you or a loved one in need of healing (mind\, body and/or spirit?) \nAll are welcome to join St. A’s Healing Rosary Prayer Group on Saturday mornings at 8:30 in the church. \nQuestions? Please email Anne Cross: OurHealingRosary@gmail.com
URL:https://starcc.com/event/st-as-healing-rosary-prayer-group-3/2026-04-25/
LOCATION:St Aloysius – Church\, New Canaan\, CT\, United States
CATEGORIES:Healing Rosary Group
ATTACH;FMTTYPE=image/png:https://starcc.com/wp-content/uploads/2026/02/Healing-Rosary.png
ORGANIZER;CN="Anne Cross":MAILTO:OurHealingRosary@gmail.com
END:VEVENT
BEGIN:VEVENT
DTSTART;TZID=America/New_York:20260420T083000
DTEND;TZID=America/New_York:20260420T093000
DTSTAMP:20260425T202112
CREATED:20260209T164454Z
LAST-MODIFIED:20260209T164620Z
UID:10001353-1776673800-1776677400@starcc.com
SUMMARY:St. A’s Healing Rosary Prayer Group
DESCRIPTION:Are you or a loved one in need of healing (mind\, body and/or spirit?) \nAll are welcome to join St. A’s Healing Rosary Prayer Group on Saturday mornings at 8:30 in the church. \nQuestions? Please email Anne Cross: OurHealingRosary@gmail.com
URL:https://starcc.com/event/st-as-healing-rosary-prayer-group-3/2026-04-20/
LOCATION:St Aloysius – Church\, New Canaan\, CT\, United States
CATEGORIES:Healing Rosary Group
ATTACH;FMTTYPE=image/png:https://starcc.com/wp-content/uploads/2026/02/Healing-Rosary.png
ORGANIZER;CN="Anne Cross":MAILTO:OurHealingRosary@gmail.com
END:VEVENT
BEGIN:VEVENT
DTSTART;TZID=America/New_York:20260418T083000
DTEND;TZID=America/New_York:20260418T093000
DTSTAMP:20260425T202112
CREATED:20260209T164454Z
LAST-MODIFIED:20260209T164620Z
UID:10001352-1776501000-1776504600@starcc.com
SUMMARY:St. A’s Healing Rosary Prayer Group
DESCRIPTION:Are you or a loved one in need of healing (mind\, body and/or spirit?) \nAll are welcome to join St. A’s Healing Rosary Prayer Group on Saturday mornings at 8:30 in the church. \nQuestions? Please email Anne Cross: OurHealingRosary@gmail.com
URL:https://starcc.com/event/st-as-healing-rosary-prayer-group-3/2026-04-18/
LOCATION:St Aloysius – Church\, New Canaan\, CT\, United States
CATEGORIES:Healing Rosary Group
ATTACH;FMTTYPE=image/png:https://starcc.com/wp-content/uploads/2026/02/Healing-Rosary.png
ORGANIZER;CN="Anne Cross":MAILTO:OurHealingRosary@gmail.com
END:VEVENT
BEGIN:VEVENT
DTSTART;TZID=America/New_York:20260413T083000
DTEND;TZID=America/New_York:20260413T093000
DTSTAMP:20260425T202112
CREATED:20260209T164454Z
LAST-MODIFIED:20260209T164620Z
UID:10001351-1776069000-1776072600@starcc.com
SUMMARY:St. A’s Healing Rosary Prayer Group
DESCRIPTION:Are you or a loved one in need of healing (mind\, body and/or spirit?) \nAll are welcome to join St. A’s Healing Rosary Prayer Group on Saturday mornings at 8:30 in the church. \nQuestions? Please email Anne Cross: OurHealingRosary@gmail.com
URL:https://starcc.com/event/st-as-healing-rosary-prayer-group-3/2026-04-13/
LOCATION:St Aloysius – Church\, New Canaan\, CT\, United States
CATEGORIES:Healing Rosary Group
ATTACH;FMTTYPE=image/png:https://starcc.com/wp-content/uploads/2026/02/Healing-Rosary.png
ORGANIZER;CN="Anne Cross":MAILTO:OurHealingRosary@gmail.com
END:VEVENT
BEGIN:VEVENT
DTSTART;TZID=America/New_York:20260411T083000
DTEND;TZID=America/New_York:20260411T093000
DTSTAMP:20260425T202112
CREATED:20260209T164454Z
LAST-MODIFIED:20260209T164620Z
UID:10001350-1775896200-1775899800@starcc.com
SUMMARY:St. A’s Healing Rosary Prayer Group
DESCRIPTION:Are you or a loved one in need of healing (mind\, body and/or spirit?) \nAll are welcome to join St. A’s Healing Rosary Prayer Group on Saturday mornings at 8:30 in the church. \nQuestions? Please email Anne Cross: OurHealingRosary@gmail.com
URL:https://starcc.com/event/st-as-healing-rosary-prayer-group-3/2026-04-11/
LOCATION:St Aloysius – Church\, New Canaan\, CT\, United States
CATEGORIES:Healing Rosary Group
ATTACH;FMTTYPE=image/png:https://starcc.com/wp-content/uploads/2026/02/Healing-Rosary.png
ORGANIZER;CN="Anne Cross":MAILTO:OurHealingRosary@gmail.com
END:VEVENT
BEGIN:VEVENT
DTSTART;TZID=America/New_York:20260406T083000
DTEND;TZID=America/New_York:20260406T093000
DTSTAMP:20260425T202112
CREATED:20260209T164454Z
LAST-MODIFIED:20260209T164620Z
UID:10001349-1775464200-1775467800@starcc.com
SUMMARY:St. A’s Healing Rosary Prayer Group
DESCRIPTION:Are you or a loved one in need of healing (mind\, body and/or spirit?) \nAll are welcome to join St. A’s Healing Rosary Prayer Group on Saturday mornings at 8:30 in the church. \nQuestions? Please email Anne Cross: OurHealingRosary@gmail.com
URL:https://starcc.com/event/st-as-healing-rosary-prayer-group-3/2026-04-06/
LOCATION:St Aloysius – Church\, New Canaan\, CT\, United States
CATEGORIES:Healing Rosary Group
ATTACH;FMTTYPE=image/png:https://starcc.com/wp-content/uploads/2026/02/Healing-Rosary.png
ORGANIZER;CN="Anne Cross":MAILTO:OurHealingRosary@gmail.com
END:VEVENT
BEGIN:VEVENT
DTSTART;TZID=America/New_York:20260404T083000
DTEND;TZID=America/New_York:20260404T093000
DTSTAMP:20260425T202112
CREATED:20260209T164454Z
LAST-MODIFIED:20260209T164620Z
UID:10001348-1775291400-1775295000@starcc.com
SUMMARY:St. A’s Healing Rosary Prayer Group
DESCRIPTION:Are you or a loved one in need of healing (mind\, body and/or spirit?) \nAll are welcome to join St. A’s Healing Rosary Prayer Group on Saturday mornings at 8:30 in the church. \nQuestions? Please email Anne Cross: OurHealingRosary@gmail.com
URL:https://starcc.com/event/st-as-healing-rosary-prayer-group-3/2026-04-04/
LOCATION:St Aloysius – Church\, New Canaan\, CT\, United States
CATEGORIES:Healing Rosary Group
ATTACH;FMTTYPE=image/png:https://starcc.com/wp-content/uploads/2026/02/Healing-Rosary.png
ORGANIZER;CN="Anne Cross":MAILTO:OurHealingRosary@gmail.com
END:VEVENT
BEGIN:VEVENT
DTSTART;TZID=America/New_York:20260330T083000
DTEND;TZID=America/New_York:20260330T093000
DTSTAMP:20260425T202112
CREATED:20260209T164454Z
LAST-MODIFIED:20260209T164620Z
UID:10001347-1774859400-1774863000@starcc.com
SUMMARY:St. A’s Healing Rosary Prayer Group
DESCRIPTION:Are you or a loved one in need of healing (mind\, body and/or spirit?) \nAll are welcome to join St. A’s Healing Rosary Prayer Group on Saturday mornings at 8:30 in the church. \nQuestions? Please email Anne Cross: OurHealingRosary@gmail.com
URL:https://starcc.com/event/st-as-healing-rosary-prayer-group-3/2026-03-30/
LOCATION:St Aloysius – Church\, New Canaan\, CT\, United States
CATEGORIES:Healing Rosary Group
ATTACH;FMTTYPE=image/png:https://starcc.com/wp-content/uploads/2026/02/Healing-Rosary.png
ORGANIZER;CN="Anne Cross":MAILTO:OurHealingRosary@gmail.com
END:VEVENT
BEGIN:VEVENT
DTSTART;TZID=America/New_York:20260328T083000
DTEND;TZID=America/New_York:20260328T093000
DTSTAMP:20260425T202112
CREATED:20260209T164454Z
LAST-MODIFIED:20260209T164620Z
UID:10001346-1774686600-1774690200@starcc.com
SUMMARY:St. A’s Healing Rosary Prayer Group
DESCRIPTION:Are you or a loved one in need of healing (mind\, body and/or spirit?) \nAll are welcome to join St. A’s Healing Rosary Prayer Group on Saturday mornings at 8:30 in the church. \nQuestions? Please email Anne Cross: OurHealingRosary@gmail.com
URL:https://starcc.com/event/st-as-healing-rosary-prayer-group-3/2026-03-28/
LOCATION:St Aloysius – Church\, New Canaan\, CT\, United States
CATEGORIES:Healing Rosary Group
ATTACH;FMTTYPE=image/png:https://starcc.com/wp-content/uploads/2026/02/Healing-Rosary.png
ORGANIZER;CN="Anne Cross":MAILTO:OurHealingRosary@gmail.com
END:VEVENT
BEGIN:VEVENT
DTSTART;TZID=America/New_York:20260323T083000
DTEND;TZID=America/New_York:20260323T093000
DTSTAMP:20260425T202112
CREATED:20260209T164454Z
LAST-MODIFIED:20260209T164620Z
UID:10001345-1774254600-1774258200@starcc.com
SUMMARY:St. A’s Healing Rosary Prayer Group
DESCRIPTION:Are you or a loved one in need of healing (mind\, body and/or spirit?) \nAll are welcome to join St. A’s Healing Rosary Prayer Group on Saturday mornings at 8:30 in the church. \nQuestions? Please email Anne Cross: OurHealingRosary@gmail.com
URL:https://starcc.com/event/st-as-healing-rosary-prayer-group-3/2026-03-23/
LOCATION:St Aloysius – Church\, New Canaan\, CT\, United States
CATEGORIES:Healing Rosary Group
ATTACH;FMTTYPE=image/png:https://starcc.com/wp-content/uploads/2026/02/Healing-Rosary.png
ORGANIZER;CN="Anne Cross":MAILTO:OurHealingRosary@gmail.com
END:VEVENT
BEGIN:VEVENT
DTSTART;TZID=America/New_York:20260321T083000
DTEND;TZID=America/New_York:20260321T093000
DTSTAMP:20260425T202112
CREATED:20260209T164454Z
LAST-MODIFIED:20260209T164620Z
UID:10001344-1774081800-1774085400@starcc.com
SUMMARY:St. A’s Healing Rosary Prayer Group
DESCRIPTION:Are you or a loved one in need of healing (mind\, body and/or spirit?) \nAll are welcome to join St. A’s Healing Rosary Prayer Group on Saturday mornings at 8:30 in the church. \nQuestions? Please email Anne Cross: OurHealingRosary@gmail.com
URL:https://starcc.com/event/st-as-healing-rosary-prayer-group-3/2026-03-21/
LOCATION:St Aloysius – Church\, New Canaan\, CT\, United States
CATEGORIES:Healing Rosary Group
ATTACH;FMTTYPE=image/png:https://starcc.com/wp-content/uploads/2026/02/Healing-Rosary.png
ORGANIZER;CN="Anne Cross":MAILTO:OurHealingRosary@gmail.com
END:VEVENT
BEGIN:VEVENT
DTSTART;TZID=America/New_York:20260316T083000
DTEND;TZID=America/New_York:20260316T093000
DTSTAMP:20260425T202112
CREATED:20260209T164454Z
LAST-MODIFIED:20260209T164620Z
UID:10001343-1773649800-1773653400@starcc.com
SUMMARY:St. A’s Healing Rosary Prayer Group
DESCRIPTION:Are you or a loved one in need of healing (mind\, body and/or spirit?) \nAll are welcome to join St. A’s Healing Rosary Prayer Group on Saturday mornings at 8:30 in the church. \nQuestions? Please email Anne Cross: OurHealingRosary@gmail.com
URL:https://starcc.com/event/st-as-healing-rosary-prayer-group-3/2026-03-16/
LOCATION:St Aloysius – Church\, New Canaan\, CT\, United States
CATEGORIES:Healing Rosary Group
ATTACH;FMTTYPE=image/png:https://starcc.com/wp-content/uploads/2026/02/Healing-Rosary.png
ORGANIZER;CN="Anne Cross":MAILTO:OurHealingRosary@gmail.com
END:VEVENT
BEGIN:VEVENT
DTSTART;TZID=America/New_York:20260314T083000
DTEND;TZID=America/New_York:20260314T093000
DTSTAMP:20260425T202112
CREATED:20260209T164454Z
LAST-MODIFIED:20260209T164620Z
UID:10001342-1773477000-1773480600@starcc.com
SUMMARY:St. A’s Healing Rosary Prayer Group
DESCRIPTION:Are you or a loved one in need of healing (mind\, body and/or spirit?) \nAll are welcome to join St. A’s Healing Rosary Prayer Group on Saturday mornings at 8:30 in the church. \nQuestions? Please email Anne Cross: OurHealingRosary@gmail.com
URL:https://starcc.com/event/st-as-healing-rosary-prayer-group-3/2026-03-14/
LOCATION:St Aloysius – Church\, New Canaan\, CT\, United States
CATEGORIES:Healing Rosary Group
ATTACH;FMTTYPE=image/png:https://starcc.com/wp-content/uploads/2026/02/Healing-Rosary.png
ORGANIZER;CN="Anne Cross":MAILTO:OurHealingRosary@gmail.com
END:VEVENT
BEGIN:VEVENT
DTSTART;TZID=America/New_York:20260309T083000
DTEND;TZID=America/New_York:20260309T093000
DTSTAMP:20260425T202112
CREATED:20260209T164454Z
LAST-MODIFIED:20260209T164620Z
UID:10001341-1773045000-1773048600@starcc.com
SUMMARY:St. A’s Healing Rosary Prayer Group
DESCRIPTION:Are you or a loved one in need of healing (mind\, body and/or spirit?) \nAll are welcome to join St. A’s Healing Rosary Prayer Group on Saturday mornings at 8:30 in the church. \nQuestions? Please email Anne Cross: OurHealingRosary@gmail.com
URL:https://starcc.com/event/st-as-healing-rosary-prayer-group-3/2026-03-09/
LOCATION:St Aloysius – Church\, New Canaan\, CT\, United States
CATEGORIES:Healing Rosary Group
ATTACH;FMTTYPE=image/png:https://starcc.com/wp-content/uploads/2026/02/Healing-Rosary.png
ORGANIZER;CN="Anne Cross":MAILTO:OurHealingRosary@gmail.com
END:VEVENT
BEGIN:VEVENT
DTSTART;TZID=America/New_York:20260307T083000
DTEND;TZID=America/New_York:20260307T093000
DTSTAMP:20260425T202112
CREATED:20260209T164454Z
LAST-MODIFIED:20260209T164620Z
UID:10001340-1772872200-1772875800@starcc.com
SUMMARY:St. A’s Healing Rosary Prayer Group
DESCRIPTION:Are you or a loved one in need of healing (mind\, body and/or spirit?) \nAll are welcome to join St. A’s Healing Rosary Prayer Group on Saturday mornings at 8:30 in the church. \nQuestions? Please email Anne Cross: OurHealingRosary@gmail.com
URL:https://starcc.com/event/st-as-healing-rosary-prayer-group-3/2026-03-07/
LOCATION:St Aloysius – Church\, New Canaan\, CT\, United States
CATEGORIES:Healing Rosary Group
ATTACH;FMTTYPE=image/png:https://starcc.com/wp-content/uploads/2026/02/Healing-Rosary.png
ORGANIZER;CN="Anne Cross":MAILTO:OurHealingRosary@gmail.com
END:VEVENT
BEGIN:VEVENT
DTSTART;TZID=America/New_York:20260302T083000
DTEND;TZID=America/New_York:20260302T093000
DTSTAMP:20260425T202112
CREATED:20260209T164454Z
LAST-MODIFIED:20260209T164620Z
UID:10001339-1772440200-1772443800@starcc.com
SUMMARY:St. A’s Healing Rosary Prayer Group
DESCRIPTION:Are you or a loved one in need of healing (mind\, body and/or spirit?) \nAll are welcome to join St. A’s Healing Rosary Prayer Group on Saturday mornings at 8:30 in the church. \nQuestions? Please email Anne Cross: OurHealingRosary@gmail.com
URL:https://starcc.com/event/st-as-healing-rosary-prayer-group-3/2026-03-02/
LOCATION:St Aloysius – Church\, New Canaan\, CT\, United States
CATEGORIES:Healing Rosary Group
ATTACH;FMTTYPE=image/png:https://starcc.com/wp-content/uploads/2026/02/Healing-Rosary.png
ORGANIZER;CN="Anne Cross":MAILTO:OurHealingRosary@gmail.com
END:VEVENT
BEGIN:VEVENT
DTSTART;TZID=America/New_York:20260228T083000
DTEND;TZID=America/New_York:20260228T093000
DTSTAMP:20260425T202112
CREATED:20260209T164454Z
LAST-MODIFIED:20260209T164620Z
UID:10001338-1772267400-1772271000@starcc.com
SUMMARY:St. A’s Healing Rosary Prayer Group
DESCRIPTION:Are you or a loved one in need of healing (mind\, body and/or spirit?) \nAll are welcome to join St. A’s Healing Rosary Prayer Group on Saturday mornings at 8:30 in the church. \nQuestions? Please email Anne Cross: OurHealingRosary@gmail.com
URL:https://starcc.com/event/st-as-healing-rosary-prayer-group-3/2026-02-28/
LOCATION:St Aloysius – Church\, New Canaan\, CT\, United States
CATEGORIES:Healing Rosary Group
ATTACH;FMTTYPE=image/png:https://starcc.com/wp-content/uploads/2026/02/Healing-Rosary.png
ORGANIZER;CN="Anne Cross":MAILTO:OurHealingRosary@gmail.com
END:VEVENT
BEGIN:VEVENT
DTSTART;TZID=America/New_York:20260223T083000
DTEND;TZID=America/New_York:20260223T093000
DTSTAMP:20260425T202112
CREATED:20260209T164454Z
LAST-MODIFIED:20260209T164620Z
UID:10001337-1771835400-1771839000@starcc.com
SUMMARY:St. A’s Healing Rosary Prayer Group
DESCRIPTION:Are you or a loved one in need of healing (mind\, body and/or spirit?) \nAll are welcome to join St. A’s Healing Rosary Prayer Group on Saturday mornings at 8:30 in the church. \nQuestions? Please email Anne Cross: OurHealingRosary@gmail.com
URL:https://starcc.com/event/st-as-healing-rosary-prayer-group-3/2026-02-23/
LOCATION:St Aloysius – Church\, New Canaan\, CT\, United States
CATEGORIES:Healing Rosary Group
ATTACH;FMTTYPE=image/png:https://starcc.com/wp-content/uploads/2026/02/Healing-Rosary.png
ORGANIZER;CN="Anne Cross":MAILTO:OurHealingRosary@gmail.com
END:VEVENT
BEGIN:VEVENT
DTSTART;TZID=America/New_York:20260221T083000
DTEND;TZID=America/New_York:20260221T093000
DTSTAMP:20260425T202112
CREATED:20260209T164454Z
LAST-MODIFIED:20260209T164620Z
UID:10001336-1771662600-1771666200@starcc.com
SUMMARY:St. A’s Healing Rosary Prayer Group
DESCRIPTION:Are you or a loved one in need of healing (mind\, body and/or spirit?) \nAll are welcome to join St. A’s Healing Rosary Prayer Group on Saturday mornings at 8:30 in the church. \nQuestions? Please email Anne Cross: OurHealingRosary@gmail.com
URL:https://starcc.com/event/st-as-healing-rosary-prayer-group-3/2026-02-21/
LOCATION:St Aloysius – Church\, New Canaan\, CT\, United States
CATEGORIES:Healing Rosary Group
ATTACH;FMTTYPE=image/png:https://starcc.com/wp-content/uploads/2026/02/Healing-Rosary.png
ORGANIZER;CN="Anne Cross":MAILTO:OurHealingRosary@gmail.com
END:VEVENT
BEGIN:VEVENT
DTSTART;TZID=America/New_York:20260216T083000
DTEND;TZID=America/New_York:20260216T093000
DTSTAMP:20260425T202112
CREATED:20260209T164454Z
LAST-MODIFIED:20260209T164620Z
UID:10001335-1771230600-1771234200@starcc.com
SUMMARY:St. A’s Healing Rosary Prayer Group
DESCRIPTION:Are you or a loved one in need of healing (mind\, body and/or spirit?) \nAll are welcome to join St. A’s Healing Rosary Prayer Group on Saturday mornings at 8:30 in the church. \nQuestions? Please email Anne Cross: OurHealingRosary@gmail.com
URL:https://starcc.com/event/st-as-healing-rosary-prayer-group-3/2026-02-16/
LOCATION:St Aloysius – Church\, New Canaan\, CT\, United States
CATEGORIES:Healing Rosary Group
ATTACH;FMTTYPE=image/png:https://starcc.com/wp-content/uploads/2026/02/Healing-Rosary.png
ORGANIZER;CN="Anne Cross":MAILTO:OurHealingRosary@gmail.com
END:VEVENT
BEGIN:VEVENT
DTSTART;TZID=America/New_York:20260214T083000
DTEND;TZID=America/New_York:20260214T093000
DTSTAMP:20260425T202112
CREATED:20260209T164454Z
LAST-MODIFIED:20260209T164620Z
UID:10001334-1771057800-1771061400@starcc.com
SUMMARY:St. A’s Healing Rosary Prayer Group
DESCRIPTION:Are you or a loved one in need of healing (mind\, body and/or spirit?) \nAll are welcome to join St. A’s Healing Rosary Prayer Group on Saturday mornings at 8:30 in the church. \nQuestions? Please email Anne Cross: OurHealingRosary@gmail.com
URL:https://starcc.com/event/st-as-healing-rosary-prayer-group-3/2026-02-14/
LOCATION:St Aloysius – Church\, New Canaan\, CT\, United States
CATEGORIES:Healing Rosary Group
ATTACH;FMTTYPE=image/png:https://starcc.com/wp-content/uploads/2026/02/Healing-Rosary.png
ORGANIZER;CN="Anne Cross":MAILTO:OurHealingRosary@gmail.com
END:VEVENT
BEGIN:VEVENT
DTSTART;TZID=America/New_York:20260209T083000
DTEND;TZID=America/New_York:20260209T093000
DTSTAMP:20260425T202112
CREATED:20260209T164454Z
LAST-MODIFIED:20260209T164620Z
UID:10001333-1770625800-1770629400@starcc.com
SUMMARY:St. A’s Healing Rosary Prayer Group
DESCRIPTION:Are you or a loved one in need of healing (mind\, body and/or spirit?) \nAll are welcome to join St. A’s Healing Rosary Prayer Group on Saturday mornings at 8:30 in the church. \nQuestions? Please email Anne Cross: OurHealingRosary@gmail.com
URL:https://starcc.com/event/st-as-healing-rosary-prayer-group-3/2026-02-09/
LOCATION:St Aloysius – Church\, New Canaan\, CT\, United States
CATEGORIES:Healing Rosary Group
ATTACH;FMTTYPE=image/png:https://starcc.com/wp-content/uploads/2026/02/Healing-Rosary.png
ORGANIZER;CN="Anne Cross":MAILTO:OurHealingRosary@gmail.com
END:VEVENT
END:VCALENDAR