BEGIN:VCALENDAR
VERSION:2.0
PRODID:-//Saint Aloysius Parish: Welcome! - New Canaan - ECPv6.13.2.1//NONSGML v1.0//EN
CALSCALE:GREGORIAN
METHOD:PUBLISH
X-ORIGINAL-URL:https://starcc.com
X-WR-CALDESC:Events for Saint Aloysius Parish: Welcome! - New Canaan
REFRESH-INTERVAL;VALUE=DURATION:PT1H
X-Robots-Tag:noindex
X-PUBLISHED-TTL:PT1H
BEGIN:VTIMEZONE
TZID:America/New_York
BEGIN:DAYLIGHT
TZOFFSETFROM:-0500
TZOFFSETTO:-0400
TZNAME:EDT
DTSTART:20240310T070000
END:DAYLIGHT
BEGIN:STANDARD
TZOFFSETFROM:-0400
TZOFFSETTO:-0500
TZNAME:EST
DTSTART:20241103T060000
END:STANDARD
END:VTIMEZONE
BEGIN:VEVENT
DTSTART;TZID=America/New_York:20240506T190000
DTEND;TZID=America/New_York:20240506T200000
DTSTAMP:20260422T220622
CREATED:20240503T171314Z
LAST-MODIFIED:20240503T171314Z
UID:10000357-1715022000-1715025600@starcc.com
SUMMARY:Young Adult Bible Study
DESCRIPTION:Led by Aurelie
URL:https://starcc.com/event/young-adult-bible-study-15/
LOCATION:40 Maple Street\, 40 Maple Street\, New Canaan\, United States
ATTACH;FMTTYPE=image/png:https://starcc.com/wp-content/uploads/2024/05/YA-May-2024.png
ORGANIZER;CN="Katie Cunningham":MAILTO:kccunningham16@gmail.com
END:VEVENT
BEGIN:VEVENT
DTSTART;TZID=America/New_York:20240508T083000
DTEND;TZID=America/New_York:20240508T091500
DTSTAMP:20260422T220622
CREATED:20240507T171851Z
LAST-MODIFIED:20240507T172026Z
UID:10000359-1715157000-1715159700@starcc.com
SUMMARY:Rosary Walkers are in Full Swing!
DESCRIPTION:WEDNESDAYS 8:30 AM-9:15AM \nWALK JUST FOR THE ROSARY OR JOIN US FOR OUR WHOLE LOOP … WHATEVER WORKS FOR YOU! \nBRING YOUR ROSARY & MEET ON MAPLE STREET IN FRONT OF THE STAPLETON HALL PARISH CENTER \nJust an informal group of us gathering together once a week on Wednesdays to walk in town and pray the Rosary! \nALL ARE WELCOME! \nJust show up & bring your intentions!
URL:https://starcc.com/event/rosary-walkers-are-in-full-swingrosarywalkers/2024-05-08/
LOCATION:Outside 40 Maple in Front of Stapleton Hall\, 40 Maple St\, New canaan\, United States
ATTACH;FMTTYPE=image/png:https://starcc.com/wp-content/uploads/2024/05/RosaryWalkers.png
ORGANIZER;CN="Chris Otis":MAILTO:Youth@starcc.com
END:VEVENT
BEGIN:VEVENT
DTSTART;TZID=America/New_York:20240508T193000
DTEND;TZID=America/New_York:20240508T203000
DTSTAMP:20260422T220622
CREATED:20240427T134653Z
LAST-MODIFIED:20240503T170226Z
UID:10000347-1715196600-1715200200@starcc.com
SUMMARY:Teen Adoration
DESCRIPTION:LAST TEEN ADORATION OF THE SCHOOL YEAR! \nWE WELCOME MSGR. ROB BACK AS HE PRESIDES! \nHigh School Teens and Confirmation Students are invited for our Holy Hour will be held inside the church! \nOur Praise & Worship Music will be provided by our teen leaders for the year \nSydney Sibilia\, Maddy Galgano\, Izzy Appelt and Bernadette McNamara \nThe Holy Hour will be held from 7:30 – 8:30pm. Please arrive at 7:20 to be seated. \nAfterwards\, have a treat from our Life is Sweeter with Jesus Candy bar! \nPlease sign up at: https://www.signupgenius.com/go/10C084DAFAD2CAAFB6-49333856-teen#/
URL:https://starcc.com/event/teen-adoration-3/
LOCATION:St Aloysius – Church\, New Canaan\, CT\, United States
ATTACH;FMTTYPE=image/png:https://starcc.com/wp-content/uploads/2024/04/Adoration-5-8.png
END:VEVENT
BEGIN:VEVENT
DTSTART;TZID=America/New_York:20240509T103000
DTEND;TZID=America/New_York:20240509T113000
DTSTAMP:20260422T220622
CREATED:20240427T135130Z
LAST-MODIFIED:20240427T135130Z
UID:10000348-1715250600-1715254200@starcc.com
SUMMARY:Rising Freshman Parent Coffee
DESCRIPTION:Rising Freshmen Welcome Gatherings with Msgr. Rob & Youth Minister Chris Otis\nJoin us for our Welcome Sessions for our Parents of Rising Freshmen in the Maple Street Room!  We will present an overview of the opportunities available for your rising freshman\, take time to pray together for your son/daughter and answer any questions you may have! \nPlease sign up at: https://www.signupgenius.com/go/10C084DAFAD2CAAFB6-49173129-rising#/
URL:https://starcc.com/event/rising-freshman-parent-coffee/
LOCATION:40 Maple Street\, 40 Maple Street\, New Canaan\, United States
ATTACH;FMTTYPE=image/jpeg:https://starcc.com/wp-content/uploads/2023/01/Youth4-scaled.jpg
ORGANIZER;CN="Chris Otis":MAILTO:Youth@starcc.com
END:VEVENT
BEGIN:VEVENT
DTSTART;TZID=America/New_York:20240510T073000
DTEND;TZID=America/New_York:20240510T173000
DTSTAMP:20260422T220622
CREATED:20230928T200614Z
LAST-MODIFIED:20240103T143451Z
UID:10000153-1715326200-1715362200@starcc.com
SUMMARY:Eucharistic Adoration
DESCRIPTION:Contact Anne Cross at:  EucharisticAdoration06840@Gmail.com \nSign up: https://www.signupgenius.com/go/8050544AFAA23A4FE3-45849028-friday
URL:https://starcc.com/event/eucharistic-adoration-2/2024-05-10/
LOCATION:St Aloysius – Chapel\, New Canaan\, CT\, United States
ATTACH;FMTTYPE=image/jpeg:https://starcc.com/wp-content/uploads/2021/11/DSC_0427_1920.jpg
END:VEVENT
BEGIN:VEVENT
DTSTART;TZID=America/New_York:20240510T080000
DTEND;TZID=America/New_York:20240510T170000
DTSTAMP:20260422T220622
CREATED:20240503T170744Z
LAST-MODIFIED:20240503T170744Z
UID:10000356-1715328000-1715360400@starcc.com
SUMMARY:Malta House Dinner
DESCRIPTION:We will meet at Malta House at 4:30 p.m. to prepare dinner\, make floral arrangements and set the table.  The moms and their children will come for chips and salsa at 5:30 pm and we will serve dinner at 6:00 pm.  The moms will eat in the Community Room … we will serve them and watch their children for them so they can enjoy dinner! \nEveryone is asked to wear their red StAY t-shirt! \nEveryone must fill out a permission slip at the links below: \nhttps://www.signupgenius.com/go/10C084DAFAD2CAAFB6-49306931-cook \n  \n  \n 
URL:https://starcc.com/event/malta-house-dinner/
LOCATION:CT
ATTACH;FMTTYPE=image/jpeg:https://starcc.com/wp-content/uploads/2024/05/Mex-Dinner.jpg.jpg
ORGANIZER;CN="Chris Otis":MAILTO:Youth@starcc.com
END:VEVENT
BEGIN:VEVENT
DTSTART;TZID=America/New_York:20240511T160000
DTEND;TZID=America/New_York:20240511T181500
DTSTAMP:20260422T220622
CREATED:20240427T135418Z
LAST-MODIFIED:20240503T170926Z
UID:10000349-1715443200-1715451300@starcc.com
SUMMARY:St. A's Buddies
DESCRIPTION:Teens in grades 8-12 needed to serve as buddies as we host an early evening of springtime fun and supper with our friends with special needs. \nPlease sign up to be a sponsor for our meal! \nEveryone must wear their red St. A’s T-shirt — if you don’t have one – bring $15  for one! \nPlease sign up at: https://www.signupgenius.com/go/10C084DAFAD2CAAFB6-49122510-stas#/
URL:https://starcc.com/event/st-as-buddies/
LOCATION:40 Maple Street\, 40 Maple Street\, New Canaan\, United States
ATTACH;FMTTYPE=image/png:https://starcc.com/wp-content/uploads/2023/07/Buddies-May.png
ORGANIZER;CN="Chris Otis":MAILTO:Youth@starcc.com
END:VEVENT
BEGIN:VEVENT
DTSTART;TZID=America/New_York:20240511T190000
DTEND;TZID=America/New_York:20240511T220000
DTSTAMP:20260422T220622
CREATED:20240503T172341Z
LAST-MODIFIED:20240503T172341Z
UID:10000358-1715454000-1715464800@starcc.com
SUMMARY:Young Adult - Spring Dancing Social
DESCRIPTION:St. Aloysius Young Adult Ministry will be having their first ever swing dancing social on May 11th at Stapleton Hall from 7:00 – 10:00 pm. We will begin with swing lessons with a social dance to follow. Food and drinks will be provided. Please feel free to bring a friend! Also\, please let us know that you are interested in coming by filling out the google form below. We hope to see you all there! \nPlease Click Here to sign up.
URL:https://starcc.com/event/young-adult-spring-dancing-social/
LOCATION:Stapleton Hall\, 40 Maple Street\, New Canaan\, United States
ATTACH;FMTTYPE=image/png:https://starcc.com/wp-content/uploads/2024/05/Screenshot-2024-05-03-at-1.20.27 PM.png
END:VEVENT
END:VCALENDAR