BEGIN:VCALENDAR
VERSION:2.0
PRODID:-//Saint Aloysius Parish: Welcome! - New Canaan - ECPv6.13.2.1//NONSGML v1.0//EN
CALSCALE:GREGORIAN
METHOD:PUBLISH
X-WR-CALNAME:Saint Aloysius Parish: Welcome! - New Canaan
X-ORIGINAL-URL:https://starcc.com
X-WR-CALDESC:Events for Saint Aloysius Parish: Welcome! - New Canaan
REFRESH-INTERVAL;VALUE=DURATION:PT1H
X-Robots-Tag:noindex
X-PUBLISHED-TTL:PT1H
BEGIN:VTIMEZONE
TZID:America/New_York
BEGIN:DAYLIGHT
TZOFFSETFROM:-0500
TZOFFSETTO:-0400
TZNAME:EDT
DTSTART:20240310T070000
END:DAYLIGHT
BEGIN:STANDARD
TZOFFSETFROM:-0400
TZOFFSETTO:-0500
TZNAME:EST
DTSTART:20241103T060000
END:STANDARD
BEGIN:DAYLIGHT
TZOFFSETFROM:-0500
TZOFFSETTO:-0400
TZNAME:EDT
DTSTART:20250309T070000
END:DAYLIGHT
BEGIN:STANDARD
TZOFFSETFROM:-0400
TZOFFSETTO:-0500
TZNAME:EST
DTSTART:20251102T060000
END:STANDARD
END:VTIMEZONE
BEGIN:VEVENT
DTSTART;TZID=America/New_York:20250601T080000
DTEND;TZID=America/New_York:20250601T170000
DTSTAMP:20260420T111017
CREATED:20250509T131319Z
LAST-MODIFIED:20250509T131319Z
UID:10000997-1748764800-1748797200@starcc.com
SUMMARY:SELL YOUR OLD GOLD
DESCRIPTION:BOB THE GOLD MAN IS BACK AT ST. ALOYSIUS AND THE PRICE OF GOLD IS UP 30% OVER LAST YEAR! \nGo home with a check in your pocket for whatever you sell and Bob will return 60% of the profits to St. Aloystus Youth Ministry for their summer/fall outreach and mission work \nGOLD BROXEN CHAINS AND BRACELETS ” SINGLE EARRINGS ” OLO SCHOOL RINGS ” RINGS WITH MISSING STONES * JEWELRY YOU NEVER WEAR * GOLD NON-WORKING WATCHES “DENTAL GOLD \n* STERLING SILVER JEWELRY\, FLATWARE & HOLLOWWARE PLATINUM * PALLADIUM \nQuestions? Reach out to bob@libertygoldct.com
URL:https://starcc.com/event/sell-your-old-gold/2025-06-01/
LOCATION:40 Maple Street\, 40 Maple Street\, New Canaan\, United States
ATTACH;FMTTYPE=image/png:https://starcc.com/wp-content/uploads/2025/05/LibertyGold.png
ORGANIZER;CN="Bob (Liberty Gold)":MAILTO:bob@libertygoldct.com
END:VEVENT
BEGIN:VEVENT
DTSTART;TZID=America/New_York:20250531T100000
DTEND;TZID=America/New_York:20250531T160000
DTSTAMP:20260420T111017
CREATED:20250509T131319Z
LAST-MODIFIED:20250509T131319Z
UID:10000996-1748685600-1748707200@starcc.com
SUMMARY:SELL YOUR OLD GOLD
DESCRIPTION:BOB THE GOLD MAN IS BACK AT ST. ALOYSIUS AND THE PRICE OF GOLD IS UP 30% OVER LAST YEAR! \nGo home with a check in your pocket for whatever you sell and Bob will return 60% of the profits to St. Aloystus Youth Ministry for their summer/fall outreach and mission work \nGOLD BROXEN CHAINS AND BRACELETS ” SINGLE EARRINGS ” OLO SCHOOL RINGS ” RINGS WITH MISSING STONES * JEWELRY YOU NEVER WEAR * GOLD NON-WORKING WATCHES “DENTAL GOLD \n* STERLING SILVER JEWELRY\, FLATWARE & HOLLOWWARE PLATINUM * PALLADIUM \nQuestions? Reach out to bob@libertygoldct.com
URL:https://starcc.com/event/sell-your-old-gold/2025-05-31/
LOCATION:40 Maple Street\, 40 Maple Street\, New Canaan\, United States
ATTACH;FMTTYPE=image/png:https://starcc.com/wp-content/uploads/2025/05/LibertyGold.png
ORGANIZER;CN="Bob (Liberty Gold)":MAILTO:bob@libertygoldct.com
END:VEVENT
BEGIN:VEVENT
DTSTART;TZID=America/New_York:20250530T100000
DTEND;TZID=America/New_York:20250530T160000
DTSTAMP:20260420T111017
CREATED:20250509T131319Z
LAST-MODIFIED:20250509T131319Z
UID:10000995-1748599200-1748620800@starcc.com
SUMMARY:SELL YOUR OLD GOLD
DESCRIPTION:BOB THE GOLD MAN IS BACK AT ST. ALOYSIUS AND THE PRICE OF GOLD IS UP 30% OVER LAST YEAR! \nGo home with a check in your pocket for whatever you sell and Bob will return 60% of the profits to St. Aloystus Youth Ministry for their summer/fall outreach and mission work \nGOLD BROXEN CHAINS AND BRACELETS ” SINGLE EARRINGS ” OLO SCHOOL RINGS ” RINGS WITH MISSING STONES * JEWELRY YOU NEVER WEAR * GOLD NON-WORKING WATCHES “DENTAL GOLD \n* STERLING SILVER JEWELRY\, FLATWARE & HOLLOWWARE PLATINUM * PALLADIUM \nQuestions? Reach out to bob@libertygoldct.com
URL:https://starcc.com/event/sell-your-old-gold/2025-05-30/
LOCATION:40 Maple Street\, 40 Maple Street\, New Canaan\, United States
ATTACH;FMTTYPE=image/png:https://starcc.com/wp-content/uploads/2025/05/LibertyGold.png
ORGANIZER;CN="Bob (Liberty Gold)":MAILTO:bob@libertygoldct.com
END:VEVENT
BEGIN:VEVENT
DTSTART;TZID=America/New_York:20240519T093000
DTEND;TZID=America/New_York:20240519T170000
DTSTAMP:20260420T111017
CREATED:20240427T140330Z
LAST-MODIFIED:20240427T140330Z
UID:10000354-1716111000-1716138000@starcc.com
SUMMARY:SELL YOUR OLD GOLD SALE
DESCRIPTION:
URL:https://starcc.com/event/sell-your-old-gold-sale-3/
LOCATION:40 Maple Street\, 40 Maple Street\, New Canaan\, United States
ORGANIZER;CN="Bob (Liberty Gold)":MAILTO:bob@libertygoldct.com
END:VEVENT
BEGIN:VEVENT
DTSTART;TZID=America/New_York:20240518T100000
DTEND;TZID=America/New_York:20240518T160000
DTSTAMP:20260420T111017
CREATED:20240427T140305Z
LAST-MODIFIED:20240427T140305Z
UID:10000353-1716026400-1716048000@starcc.com
SUMMARY:SELL YOUR OLD GOLD SALE
DESCRIPTION:
URL:https://starcc.com/event/sell-your-old-gold-sale-2/
LOCATION:40 Maple Street\, 40 Maple Street\, New Canaan\, United States
ORGANIZER;CN="Bob (Liberty Gold)":MAILTO:bob@libertygoldct.com
END:VEVENT
BEGIN:VEVENT
DTSTART;TZID=America/New_York:20240517T100000
DTEND;TZID=America/New_York:20240517T160000
DTSTAMP:20260420T111017
CREATED:20240427T140200Z
LAST-MODIFIED:20240427T140200Z
UID:10000352-1715940000-1715961600@starcc.com
SUMMARY:SELL YOUR OLD GOLD SALE
DESCRIPTION:
URL:https://starcc.com/event/sell-your-old-gold-sale/
LOCATION:40 Maple Street\, 40 Maple Street\, New Canaan\, United States
ORGANIZER;CN="Bob (Liberty Gold)":MAILTO:bob@libertygoldct.com
END:VEVENT
END:VCALENDAR