BEGIN:VCALENDAR
VERSION:2.0
PRODID:-//Saint Aloysius Parish: Welcome! - New Canaan - ECPv6.13.2.1//NONSGML v1.0//EN
CALSCALE:GREGORIAN
METHOD:PUBLISH
X-ORIGINAL-URL:https://starcc.com
X-WR-CALDESC:Events for Saint Aloysius Parish: Welcome! - New Canaan
REFRESH-INTERVAL;VALUE=DURATION:PT1H
X-Robots-Tag:noindex
X-PUBLISHED-TTL:PT1H
BEGIN:VTIMEZONE
TZID:America/New_York
BEGIN:DAYLIGHT
TZOFFSETFROM:-0500
TZOFFSETTO:-0400
TZNAME:EDT
DTSTART:20250309T070000
END:DAYLIGHT
BEGIN:STANDARD
TZOFFSETFROM:-0400
TZOFFSETTO:-0500
TZNAME:EST
DTSTART:20251102T060000
END:STANDARD
BEGIN:DAYLIGHT
TZOFFSETFROM:-0500
TZOFFSETTO:-0400
TZNAME:EDT
DTSTART:20260308T070000
END:DAYLIGHT
BEGIN:STANDARD
TZOFFSETFROM:-0400
TZOFFSETTO:-0500
TZNAME:EST
DTSTART:20261101T060000
END:STANDARD
END:VTIMEZONE
BEGIN:VEVENT
DTSTART;TZID=America/New_York:20260415T160000
DTEND;TZID=America/New_York:20260415T170000
DTSTAMP:20260422T080302
CREATED:20260413T134326Z
LAST-MODIFIED:20260413T134351Z
UID:10001536-1776268800-1776272400@starcc.com
SUMMARY:Peace in the Storm Ministry
DESCRIPTION:For those with health challenges – Wednesday\, April 15′ at 4 p.m. in the Chapel \nAre you experiencing chronic or challenging health issues? \nAre you caring for a loved one with health challenges? You are invited to join our group for a time of prayerful encouragement and mutual support. Find peace in the storm as we explore the positive power of Scripture applied to health challenges. \nIf you have any questions\, please reach out to Father Franklin (frfranklin@starcc.com) or Colette Gardner (coletteygardner@gmail.com).
URL:https://starcc.com/event/peace-in-the-storm-ministry-3/
LOCATION:St Aloysius – Chapel\, New Canaan\, CT\, United States
ATTACH;FMTTYPE=image/png:https://starcc.com/wp-content/uploads/2026/04/Peace-in-the-storm-4-15-2026.png
ORGANIZER;CN="Colette Gardner":MAILTO:colletteygardner@gmail.com
END:VEVENT
BEGIN:VEVENT
DTSTART;TZID=America/New_York:20260114T160000
DTEND;TZID=America/New_York:20260114T170000
DTSTAMP:20260422T080302
CREATED:20260109T152315Z
LAST-MODIFIED:20260109T152315Z
UID:10001324-1768406400-1768410000@starcc.com
SUMMARY:Peace in the Storm Ministry
DESCRIPTION:For those with health challenges – Wednesday\, January 14th at 4 p.m. in the Chapel \nAre you experiencing chronic or challenging health issues? \nAre you caring for a loved one with health challenges? You are invited to join our group for a time of prayerful encouragement and mutual support. Find peace in the storm as we explore the positive power of Scripture applied to health challenges. \nIf you have any questions\, please reach out to Father Franklin (frfranklin@starcc.com) or Colette Gardner (coletteygardner@gmail.com).
URL:https://starcc.com/event/peace-in-the-storm-ministry-2/
LOCATION:St Aloysius – Chapel\, New Canaan\, CT\, United States
ATTACH;FMTTYPE=image/png:https://starcc.com/wp-content/uploads/2026/01/Peace-in-the-Storm.png
ORGANIZER;CN="Colette Gardner":MAILTO:colletteygardner@gmail.com
END:VEVENT
BEGIN:VEVENT
DTSTART;TZID=America/New_York:20250314T190000
DTEND;TZID=America/New_York:20250314T200000
DTSTAMP:20260422T080302
CREATED:20250228T142021Z
LAST-MODIFIED:20250228T142912Z
UID:10000950-1741978800-1741982400@starcc.com
SUMMARY:Stations of the Cross For Healing
DESCRIPTION:Join our Wellness Ministry as we pray\, reflect and unite our sufferings to the Way of the Cross. All who are experiencing any type of chronic medical condition and caregivers are welcome. \nFor more information\, email Colette Gardner at colletteygardner@gmail.com
URL:https://starcc.com/event/stations-of-the-cross-for-healing/
LOCATION:St Aloysius – Church\, New Canaan\, CT\, United States
ATTACH;FMTTYPE=image/png:https://starcc.com/wp-content/uploads/2025/02/Screenshot-2025-02-28-at-9.17.26 AM.png
ORGANIZER;CN="Colette Gardner":MAILTO:colletteygardner@gmail.com
END:VEVENT
END:VCALENDAR